BEGIN:VCALENDAR
VERSION:2.0
PRODID:-//Terry&#039;s Natural Market - ECPv6.0.6.2//NONSGML v1.0//EN
CALSCALE:GREGORIAN
METHOD:PUBLISH
X-WR-CALNAME:Terry&#039;s Natural Market
X-ORIGINAL-URL:https://terrysnaturals.com
X-WR-CALDESC:Events for Terry&#039;s Natural Market
REFRESH-INTERVAL;VALUE=DURATION:PT1H
X-Robots-Tag:noindex
X-PUBLISHED-TTL:PT1H
BEGIN:VTIMEZONE
TZID:UTC
BEGIN:STANDARD
TZOFFSETFROM:+0000
TZOFFSETTO:+0000
TZNAME:UTC
DTSTART:20260101T000000
END:STANDARD
END:VTIMEZONE
BEGIN:VEVENT
DTSTART;TZID=UTC:20260420T080000
DTEND;TZID=UTC:20260426T170000
DTSTAMP:20260421T102816
CREATED:20231116T174025Z
LAST-MODIFIED:20260109T164242Z
UID:13270-1776672000-1777222800@terrysnaturals.com
SUMMARY:Moreschini – Ricci
DESCRIPTION:
URL:https://terrysnaturals.com/event/moreschini-ricci-6/
END:VEVENT
END:VCALENDAR